BEGIN:VCALENDAR
VERSION:2.0
PRODID:-//Les éditions du Flon - ECPv6.15.20//NONSGML v1.0//EN
CALSCALE:GREGORIAN
METHOD:PUBLISH
X-WR-CALNAME:Les éditions du Flon
X-ORIGINAL-URL:https://editions-du-flon.ch
X-WR-CALDESC:Évènements pour Les éditions du Flon
REFRESH-INTERVAL;VALUE=DURATION:PT1H
X-Robots-Tag:noindex
X-PUBLISHED-TTL:PT1H
BEGIN:VTIMEZONE
TZID:Europe/Zurich
BEGIN:DAYLIGHT
TZOFFSETFROM:+0100
TZOFFSETTO:+0200
TZNAME:CEST
DTSTART:20240331T010000
END:DAYLIGHT
BEGIN:STANDARD
TZOFFSETFROM:+0200
TZOFFSETTO:+0100
TZNAME:CET
DTSTART:20241027T010000
END:STANDARD
BEGIN:DAYLIGHT
TZOFFSETFROM:+0100
TZOFFSETTO:+0200
TZNAME:CEST
DTSTART:20250330T010000
END:DAYLIGHT
BEGIN:STANDARD
TZOFFSETFROM:+0200
TZOFFSETTO:+0100
TZNAME:CET
DTSTART:20251026T010000
END:STANDARD
BEGIN:DAYLIGHT
TZOFFSETFROM:+0100
TZOFFSETTO:+0200
TZNAME:CEST
DTSTART:20260329T010000
END:DAYLIGHT
BEGIN:STANDARD
TZOFFSETFROM:+0200
TZOFFSETTO:+0100
TZNAME:CET
DTSTART:20261025T010000
END:STANDARD
END:VTIMEZONE
BEGIN:VEVENT
DTSTART;VALUE=DATE:20250829
DTEND;VALUE=DATE:20250901
DTSTAMP:20260421T195633
CREATED:20250425T171400Z
LAST-MODIFIED:20250814T203238Z
UID:31996-1756425600-1756684799@editions-du-flon.ch
SUMMARY:La fête du livre
DESCRIPTION:La fête du livre à St-Pierre-de-Clages \nTout le programme sur : https://www.village-du-livre.ch/fr/la-fete-du-livre-452/ \nVenez découvrir en primeur le dernier livre de Marie-Claire Dewarrat : Les Osses \nDédicaces et vernissage du livre le samedi 30 août 2025 à partir de 15h00 ! \nMarie-Claire Dewarrat en dédicaces
URL:https://editions-du-flon.ch/event/la-fete-du-livre/
LOCATION:St-Pierre-de-Clages\, Rue de l'Eglise\, St-Pierre-de-Clages\, Valais\, 1955\, Switzerland
CATEGORIES:Autres manifestations
ATTACH;FMTTYPE=image/webp:https://editions-du-flon.ch/wp-content/uploads/2025/04/Valais-2025.webp
ORGANIZER;CN="AVTC - Village Suisse du livre":MAILTO:info@promochamoson.ch
END:VEVENT
END:VCALENDAR