BEGIN:VCALENDAR
VERSION:2.0
PRODID:-//Les éditions du Flon - ECPv6.15.20//NONSGML v1.0//EN
CALSCALE:GREGORIAN
METHOD:PUBLISH
X-WR-CALNAME:Les éditions du Flon
X-ORIGINAL-URL:https://editions-du-flon.ch
X-WR-CALDESC:Évènements pour Les éditions du Flon
REFRESH-INTERVAL;VALUE=DURATION:PT1H
X-Robots-Tag:noindex
X-PUBLISHED-TTL:PT1H
BEGIN:VTIMEZONE
TZID:Europe/Zurich
BEGIN:DAYLIGHT
TZOFFSETFROM:+0100
TZOFFSETTO:+0200
TZNAME:CEST
DTSTART:20250330T010000
END:DAYLIGHT
BEGIN:STANDARD
TZOFFSETFROM:+0200
TZOFFSETTO:+0100
TZNAME:CET
DTSTART:20251026T010000
END:STANDARD
BEGIN:DAYLIGHT
TZOFFSETFROM:+0100
TZOFFSETTO:+0200
TZNAME:CEST
DTSTART:20260329T010000
END:DAYLIGHT
BEGIN:STANDARD
TZOFFSETFROM:+0200
TZOFFSETTO:+0100
TZNAME:CET
DTSTART:20261025T010000
END:STANDARD
BEGIN:DAYLIGHT
TZOFFSETFROM:+0100
TZOFFSETTO:+0200
TZNAME:CEST
DTSTART:20270328T010000
END:DAYLIGHT
BEGIN:STANDARD
TZOFFSETFROM:+0200
TZOFFSETTO:+0100
TZNAME:CET
DTSTART:20271031T010000
END:STANDARD
END:VTIMEZONE
BEGIN:VEVENT
DTSTART;VALUE=DATE:20260613
DTEND;VALUE=DATE:20260614
DTSTAMP:20260421T162057
CREATED:20260128T100154Z
LAST-MODIFIED:20260128T100154Z
UID:35791-1781308800-1781395199@editions-du-flon.ch
SUMMARY:Marché de Sottens
DESCRIPTION:Le Marché de Sottens aura lieu le 13 juin 2026\, au centre du village. \n \nProduits régionaux\, animations et restauration seront au rendez-vous. Des informations suivront.
URL:https://editions-du-flon.ch/event/marche-de-sottens/
CATEGORIES:Marchés
ATTACH;FMTTYPE=image/jpeg:https://editions-du-flon.ch/wp-content/uploads/2026/01/Marche-de-Sottens-bandeau.jpg
ORGANIZER;CN="March%C3%A9 artisanal de Sottens":MAILTO:severine.reinhardt@gmail.com
END:VEVENT
END:VCALENDAR