BEGIN:VCALENDAR
VERSION:2.0
PRODID:-//Les éditions du Flon - ECPv6.15.20//NONSGML v1.0//EN
CALSCALE:GREGORIAN
METHOD:PUBLISH
X-WR-CALNAME:Les éditions du Flon
X-ORIGINAL-URL:https://editions-du-flon.ch
X-WR-CALDESC:Évènements pour Les éditions du Flon
REFRESH-INTERVAL;VALUE=DURATION:PT1H
X-Robots-Tag:noindex
X-PUBLISHED-TTL:PT1H
BEGIN:VTIMEZONE
TZID:Europe/Zurich
BEGIN:DAYLIGHT
TZOFFSETFROM:+0100
TZOFFSETTO:+0200
TZNAME:CEST
DTSTART:20240331T010000
END:DAYLIGHT
BEGIN:STANDARD
TZOFFSETFROM:+0200
TZOFFSETTO:+0100
TZNAME:CET
DTSTART:20241027T010000
END:STANDARD
BEGIN:DAYLIGHT
TZOFFSETFROM:+0100
TZOFFSETTO:+0200
TZNAME:CEST
DTSTART:20250330T010000
END:DAYLIGHT
BEGIN:STANDARD
TZOFFSETFROM:+0200
TZOFFSETTO:+0100
TZNAME:CET
DTSTART:20251026T010000
END:STANDARD
BEGIN:DAYLIGHT
TZOFFSETFROM:+0100
TZOFFSETTO:+0200
TZNAME:CEST
DTSTART:20260329T010000
END:DAYLIGHT
BEGIN:STANDARD
TZOFFSETFROM:+0200
TZOFFSETTO:+0100
TZNAME:CET
DTSTART:20261025T010000
END:STANDARD
END:VTIMEZONE
BEGIN:VEVENT
DTSTART;TZID=Europe/Zurich:20250926T184500
DTEND;TZID=Europe/Zurich:20250926T210000
DTSTAMP:20260421T200038
CREATED:20250909T132129Z
LAST-MODIFIED:20250909T133504Z
UID:34821-1758912300-1758920400@editions-du-flon.ch
SUMMARY:Rencontre avec Marie-Claire Dewarrat
DESCRIPTION:Marie-Claire Dewarrat et la librairie Albert le Grand sont heureuses de vous accueillir pour une rencontre\nle vendredi 26 septembre 2025 à partir de 18 h 45\nL’auteure dédicacera dans notre librairie son livre paru\naux Éditions du Flon\, intitulé\n« Les Osses »\nDès 19 heures\, présentation et lecture de l’ouvrage par Sonia Menoud et Isabelle Loyse-Gremaud\npuis dédicaces et moment d’échanges suivis d’un apéritif.
URL:https://editions-du-flon.ch/event/rencontre-avec-marie-claire-dewarrat/
LOCATION:Librairie Albert le Grand\, Rue du Temple 1\, Fribourg\, 1700\, Switzerland
CATEGORIES:Dédicaces
ATTACH;FMTTYPE=image/jpeg:https://editions-du-flon.ch/wp-content/uploads/2025/09/20250830_153924-scaled.jpg
END:VEVENT
END:VCALENDAR