BEGIN:VCALENDAR
VERSION:2.0
PRODID:-//Les éditions du Flon - ECPv6.15.20//NONSGML v1.0//EN
CALSCALE:GREGORIAN
METHOD:PUBLISH
X-WR-CALNAME:Les éditions du Flon
X-ORIGINAL-URL:https://editions-du-flon.ch
X-WR-CALDESC:Évènements pour Les éditions du Flon
REFRESH-INTERVAL;VALUE=DURATION:PT1H
X-Robots-Tag:noindex
X-PUBLISHED-TTL:PT1H
BEGIN:VTIMEZONE
TZID:Europe/Zurich
BEGIN:DAYLIGHT
TZOFFSETFROM:+0100
TZOFFSETTO:+0200
TZNAME:CEST
DTSTART:20240331T010000
END:DAYLIGHT
BEGIN:STANDARD
TZOFFSETFROM:+0200
TZOFFSETTO:+0100
TZNAME:CET
DTSTART:20241027T010000
END:STANDARD
BEGIN:DAYLIGHT
TZOFFSETFROM:+0100
TZOFFSETTO:+0200
TZNAME:CEST
DTSTART:20250330T010000
END:DAYLIGHT
BEGIN:STANDARD
TZOFFSETFROM:+0200
TZOFFSETTO:+0100
TZNAME:CET
DTSTART:20251026T010000
END:STANDARD
BEGIN:DAYLIGHT
TZOFFSETFROM:+0100
TZOFFSETTO:+0200
TZNAME:CEST
DTSTART:20260329T010000
END:DAYLIGHT
BEGIN:STANDARD
TZOFFSETFROM:+0200
TZOFFSETTO:+0100
TZNAME:CET
DTSTART:20261025T010000
END:STANDARD
END:VTIMEZONE
BEGIN:VEVENT
DTSTART;TZID=Europe/Zurich:20251009T200000
DTEND;TZID=Europe/Zurich:20251009T220000
DTSTAMP:20260422T080634
CREATED:20250929T134935Z
LAST-MODIFIED:20250929T134935Z
UID:34914-1760040000-1760047200@editions-du-flon.ch
SUMMARY:Rencontre à l'Antenne
DESCRIPTION:Rencontre avec le club de lecture de l’Antenne\, à Sottens. \nVenez découvrir les coulisses d’une petite maison d’édition le 9 octobre 2025\, à 20h00. Inscription souhaitée par mail à info@l-antenne.ch . Ce moment d’échange sera suivi par un verre de l’amitié. \nRencontre à l’Antenne à Sottens
URL:https://editions-du-flon.ch/event/rencontre-a-lantenne/
LOCATION:Antenne à Sottens\, Rue du Collège 10\, Sottens\, 1062\, Switzerland
CATEGORIES:Autres manifestations
ATTACH;FMTTYPE=image/jpeg:https://editions-du-flon.ch/wp-content/uploads/2025/09/FB_IMG_1759141369324.jpg
ORGANIZER;CN="Antenne Sottens":MAILTO:info@l-antenne.ch
END:VEVENT
END:VCALENDAR