BEGIN:VCALENDAR
VERSION:2.0
PRODID:-//Les éditions du Flon - ECPv6.15.20//NONSGML v1.0//EN
CALSCALE:GREGORIAN
METHOD:PUBLISH
X-WR-CALNAME:Les éditions du Flon
X-ORIGINAL-URL:https://editions-du-flon.ch
X-WR-CALDESC:Évènements pour Les éditions du Flon
REFRESH-INTERVAL;VALUE=DURATION:PT1H
X-Robots-Tag:noindex
X-PUBLISHED-TTL:PT1H
BEGIN:VTIMEZONE
TZID:Europe/Zurich
BEGIN:DAYLIGHT
TZOFFSETFROM:+0100
TZOFFSETTO:+0200
TZNAME:CEST
DTSTART:20240331T010000
END:DAYLIGHT
BEGIN:STANDARD
TZOFFSETFROM:+0200
TZOFFSETTO:+0100
TZNAME:CET
DTSTART:20241027T010000
END:STANDARD
BEGIN:DAYLIGHT
TZOFFSETFROM:+0100
TZOFFSETTO:+0200
TZNAME:CEST
DTSTART:20250330T010000
END:DAYLIGHT
BEGIN:STANDARD
TZOFFSETFROM:+0200
TZOFFSETTO:+0100
TZNAME:CET
DTSTART:20251026T010000
END:STANDARD
BEGIN:DAYLIGHT
TZOFFSETFROM:+0100
TZOFFSETTO:+0200
TZNAME:CEST
DTSTART:20260329T010000
END:DAYLIGHT
BEGIN:STANDARD
TZOFFSETFROM:+0200
TZOFFSETTO:+0100
TZNAME:CET
DTSTART:20261025T010000
END:STANDARD
BEGIN:DAYLIGHT
TZOFFSETFROM:+0100
TZOFFSETTO:+0200
TZNAME:CEST
DTSTART:20270328T010000
END:DAYLIGHT
BEGIN:STANDARD
TZOFFSETFROM:+0200
TZOFFSETTO:+0100
TZNAME:CET
DTSTART:20271031T010000
END:STANDARD
END:VTIMEZONE
BEGIN:VEVENT
DTSTART;TZID=Europe/Zurich:20260403T090000
DTEND;TZID=Europe/Zurich:20260403T170000
DTSTAMP:20260421T145823
CREATED:20260205T093534Z
LAST-MODIFIED:20260331T185614Z
UID:36059-1775206800-1775235600@editions-du-flon.ch
SUMMARY:Marché du Mouret
DESCRIPTION:Marché mensuel de Pâques le 3 avril 2026.\n Retrouvez Les Éditions du Flon au Mouret\, présentes toute la journée pour partager leur univers\, leurs ouvrages et échanger avec vous. \n Au Restaurant de la Croix-Blanche \n \nLe Marché du Mouret vous donne rendez-vous pour une journée conviviale placée sous le signe des bonnes affaires et de la rencontre ! \nAu programme : Divers artisans et exposants Vide-grenier Vide-dressing Des trouvailles uniques à prix tout doux
URL:https://editions-du-flon.ch/event/marche-du-mouret-3/
LOCATION:Restaurant de la Croix-Blanche\, Le Mouret\, 1724\, Switzerland
CATEGORIES:Marchés
ATTACH;FMTTYPE=image/jpeg:https://editions-du-flon.ch/wp-content/uploads/2026/02/Marche-Le-Mouret-banniere.jpg
END:VEVENT
BEGIN:VEVENT
DTSTART;TZID=Europe/Zurich:20260329T100300
DTEND;TZID=Europe/Zurich:20260329T160300
DTSTAMP:20260421T145823
CREATED:20260128T150000Z
LAST-MODIFIED:20260128T150000Z
UID:35805-1774778580-1774800180@editions-du-flon.ch
SUMMARY:Marché de St-Prex
DESCRIPTION:Le Marché de Saint-Prex est un événement incontournable pour les visiteurs et habitants de la région. Il se déroule tous les derniers dimanches de chaque mois de février à décembre\, offrant une expérience culinaire unique avec des spécialités de 10 nationalités différentes. Les visiteurs peuvent profiter de la convivialité du marché\, avec des tables et bancs disponibles\, et choisir de consommer leur nourriture et boissons sur place ou à emporter. Le marché est également bien desservi par un parking à proximité\, à quelques minutes à pieds de la gare de Saint-Prex.
URL:https://editions-du-flon.ch/event/marche-de-st-prex-11/
LOCATION:St-Prex\, Grand Rue\, St-Prex\, Vaud\, 1162\, Switzerland
CATEGORIES:Marchés
ATTACH;FMTTYPE=image/png:https://editions-du-flon.ch/wp-content/uploads/2025/03/logo-marche-2021-1.png
ORGANIZER;CN="March%C3%A9 de St-Prex":MAILTO:info@marche-de-st-prex.ch
END:VEVENT
BEGIN:VEVENT
DTSTART;VALUE=DATE:20260318
DTEND;VALUE=DATE:20260323
DTSTAMP:20260421T145823
CREATED:20251227T092740Z
LAST-MODIFIED:20260128T093405Z
UID:35639-1773792000-1774223999@editions-du-flon.ch
SUMMARY:Salon du Livre de Genève
DESCRIPTION:Pour célébrer sa 40e édition\, le salon réunit un quatuor brillant : la journaliste et passeuse de culture Laure Adler\, le dessinateur de presse au regard affûté Patrick Chappatte\, la poétesse lumineuse Hélène Dorion et le romancier globe-trotter Douglas Kennedy. \nQuatre voix singulières issues de quatre pays différents qui auront carte blanche pour créer des rencontres inédites et inviter des personnalités qui les inspirent. Un casting d’exception pour cette édition anniversaire !
URL:https://editions-du-flon.ch/event/salon-du-livre-de-geneve-2/
LOCATION:Salon du Livre de Genève\, Palexpo\, Genève\, 1200\, Switzerland
CATEGORIES:Salons
END:VEVENT
BEGIN:VEVENT
DTSTART;TZID=Europe/Zurich:20260301T090000
DTEND;TZID=Europe/Zurich:20260301T170000
DTSTAMP:20260421T145823
CREATED:20260115T145741Z
LAST-MODIFIED:20260115T145741Z
UID:35767-1772355600-1772384400@editions-du-flon.ch
SUMMARY:Marché du Mouret
DESCRIPTION:Marché mensuel du Mouret le 1er mars 2026.\n📚 Retrouvez Les Éditions du Flon au Mouret\, présentes toute la journée pour partager leur univers\, leurs ouvrages et échanger avec vous. \n📍 Au Restaurant de la Croix-Blanche \nMarché du Mouret\n🕘 De 9h00 à 17h00 \nLe Mouret vous donne rendez-vous pour une journée conviviale placée sous le signe des bonnes affaires et de la rencontre ! \nAu programme :✨ Divers artisans et exposants🛍️ Vide-grenier👗 Vide-dressing🎁 Des trouvailles uniques à prix tout doux
URL:https://editions-du-flon.ch/event/marche-du-mouret-2/
LOCATION:Restaurant de la Croix-Blanche\, Le Mouret\, 1724\, Switzerland
CATEGORIES:Marchés
ATTACH;FMTTYPE=image/jpeg:https://editions-du-flon.ch/wp-content/uploads/2026/01/banniere.jpg
END:VEVENT
BEGIN:VEVENT
DTSTART;TZID=Europe/Zurich:20260201T090000
DTEND;TZID=Europe/Zurich:20260201T170000
DTSTAMP:20260421T145823
CREATED:20260112T100026Z
LAST-MODIFIED:20260114T133518Z
UID:35746-1769936400-1769965200@editions-du-flon.ch
SUMMARY:Marché du Mouret
DESCRIPTION:Marché mensuel du Mouret le 1er février 2026.\n📚 Retrouvez Les Éditions du Flon au Mouret\, présentes toute la journée pour partager leur univers\, leurs ouvrages et échanger avec vous. \n📍 Au Restaurant de la Croix-Blanche \nMarché Le Mouret\n🕘 De 9h00 à 17h00 \nLe Mouret vous donne rendez-vous pour une journée conviviale placée sous le signe des bonnes affaires et de la rencontre ! \nAu programme :✨ Divers artisans et exposants🛍️ Vide-grenier👗 Vide-dressing🎁 Des trouvailles uniques à prix tout doux
URL:https://editions-du-flon.ch/event/marche-du-mouret/
LOCATION:Restaurant de la Croix-Blanche\, Le Mouret\, 1724\, Switzerland
CATEGORIES:Marchés
ATTACH;FMTTYPE=image/jpeg:https://editions-du-flon.ch/wp-content/uploads/2026/01/IMG-20260113-WA0003.jpg
END:VEVENT
BEGIN:VEVENT
DTSTART;TZID=Europe/Zurich:20260111T090000
DTEND;TZID=Europe/Zurich:20260111T170000
DTSTAMP:20260421T145823
CREATED:20260106T181012Z
LAST-MODIFIED:20260108T102924Z
UID:35667-1768122000-1768150800@editions-du-flon.ch
SUMMARY:Marché du 11 janvier\, Le Mouret
DESCRIPTION:📣 Le Mouret fait ses soldes ! 🎉 \nMarché du 11 janvier\, Le Mouret\n📍 Marché au Restaurant de la Croix-Blanche🕘 De 9h00 à 17h00 \n  \nLe Mouret vous donne rendez-vous pour une journée conviviale placée sous le signe des bonnes affaires et de la rencontre ! \nAu programme :✨ Divers artisans et exposants🛍️ Vide-grenier👗 Vide-dressing🎁 Des trouvailles uniques à prix tout doux \n📚 Retrouvez Les Éditions du Flon au Mouret\, présentes toute la journée pour partager leur univers\, leurs ouvrages et échanger avec vous. \n \n👉 Venez nombreux partager cette belle journée au cœur du village !
URL:https://editions-du-flon.ch/event/marche-du-11-janvier-le-mouret/
LOCATION:Restaurant de la Croix-Blanche\, Le Mouret\, 1724\, Switzerland
CATEGORIES:Marchés
ATTACH;FMTTYPE=image/jpeg:https://editions-du-flon.ch/wp-content/uploads/2026/01/IMG-20260108-WA0000.jpg
END:VEVENT
BEGIN:VEVENT
DTSTART;TZID=Europe/Zurich:20251214T100000
DTEND;TZID=Europe/Zurich:20251214T160000
DTSTAMP:20260421T145823
CREATED:20250425T102815Z
LAST-MODIFIED:20251016T100125Z
UID:31956-1765706400-1765728000@editions-du-flon.ch
SUMMARY:Marché de St-Prex
DESCRIPTION:Marché de St-Prex \n  \nComme chaque dernier dimanche du mois\, venez vous promener dans le bourg de St-Prex et découvrir de nombreux produits régionaux. Et comme Noël approche\, ce sera exceptionnellement un Marché de Noël !
URL:https://editions-du-flon.ch/event/marche-de-st-prex-10/
LOCATION:St-Prex\, Grand Rue\, St-Prex\, Vaud\, 1162\, Switzerland
CATEGORIES:Marchés
ATTACH;FMTTYPE=image/png:https://editions-du-flon.ch/wp-content/uploads/2025/03/logo-marche-2021-1.png
ORGANIZER;CN="March%C3%A9 de St-Prex":MAILTO:info@marche-de-st-prex.ch
END:VEVENT
BEGIN:VEVENT
DTSTART;TZID=Europe/Zurich:20251213T140000
DTEND;TZID=Europe/Zurich:20251213T160000
DTSTAMP:20260421T145823
CREATED:20251116T115916Z
LAST-MODIFIED:20251116T115916Z
UID:35572-1765634400-1765641600@editions-du-flon.ch
SUMMARY:Dédicaces à Attalens
DESCRIPTION:Marie-Claire Dewarrat sera en dédicaces à Attalens\, Au Papyrus\, avec son dernier livre Les Osses\, le 13 décembre prochain\, de 14h00 à 16h00. \nMarie-Claire Dewarrat en dédicaces
URL:https://editions-du-flon.ch/event/dedicaces-a-attalens/
LOCATION:Au Papyrus\, Grand-Rue 50\, Attalens\, 1616\, Switzerland
CATEGORIES:Dédicaces
ATTACH;FMTTYPE=image/jpeg:https://editions-du-flon.ch/wp-content/uploads/2025/09/20250830_153924-scaled.jpg
END:VEVENT
BEGIN:VEVENT
DTSTART;TZID=Europe/Zurich:20251211T170000
DTEND;TZID=Europe/Zurich:20251211T220000
DTSTAMP:20260421T145823
CREATED:20251117T171958Z
LAST-MODIFIED:20251117T171958Z
UID:35575-1765472400-1765490400@editions-du-flon.ch
SUMMARY:Marché de Noël de Palézieux
DESCRIPTION:Rendez-vous au battoir à Palézieux pour notre magnifique marché de Noël ! De 17h00 à 22h00 le 11 décembre prochain\, venez découvrir les nombreux artisans de la région. Restauration et animations sont également au rendez-vous. \nMarché de Noël Palézieux 2025
URL:https://editions-du-flon.ch/event/marche-de-noel-de-palezieux/
LOCATION:Palézieux\, Route du Battoir 1\, Palézieux\, Vaud\, 1607\, Switzerland
CATEGORIES:Marchés
ATTACH;FMTTYPE=image/png:https://editions-du-flon.ch/wp-content/uploads/2024/11/marche-de-noel.png
ORGANIZER;CN="March%C3%A9 du Terroir":MAILTO:marcheterroirpalezieux@gmail.com
END:VEVENT
BEGIN:VEVENT
DTSTART;TZID=Europe/Zurich:20251130T100300
DTEND;TZID=Europe/Zurich:20251130T160300
DTSTAMP:20260421T145823
CREATED:20250425T102532Z
LAST-MODIFIED:20251016T095813Z
UID:31953-1764496980-1764518580@editions-du-flon.ch
SUMMARY:Marché de St-Prex
DESCRIPTION:Marché de St-Prex \nComme chaque mois\, venez vous promener dans le bourg de St-Prex et découvrir de nombreux produits régionaux !
URL:https://editions-du-flon.ch/event/marche-de-st-prex-9/
LOCATION:St-Prex\, Grand Rue\, St-Prex\, Vaud\, 1162\, Switzerland
CATEGORIES:Marchés
ATTACH;FMTTYPE=image/png:https://editions-du-flon.ch/wp-content/uploads/2025/03/logo-marche-2021-1.png
ORGANIZER;CN="March%C3%A9 de St-Prex":MAILTO:info@marche-de-st-prex.ch
END:VEVENT
BEGIN:VEVENT
DTSTART;TZID=Europe/Zurich:20251129T100000
DTEND;TZID=Europe/Zurich:20251130T180000
DTSTAMP:20260421T145823
CREATED:20251013T175403Z
LAST-MODIFIED:20251017T143859Z
UID:34998-1764410400-1764525600@editions-du-flon.ch
SUMMARY:Marché de Noël de Payerne
DESCRIPTION:Les samedi et dimanche 29 et 30 novembre 2025\, nous serons présent au Marché de Noël de la paroisse catholique de Payerne pour notre deuxième participation. \nVenez découvrir le résultat d’une année de travail et surtout\, profitez de préparer vos cadeaux\, un livre est toujours une bonne idée ! \nFaites plaisir à vos proches ou votre famille avec un conte de Noël : Un nain curieux et une clarté mystérieuse. \nNous nous réjouissons de vous y croiser !
URL:https://editions-du-flon.ch/event/marche-de-noel-de-payerne/
LOCATION:Payerne\, Rue de Guillermaux 17\, Payerne\, 1530\, Switzerland
CATEGORIES:Marchés
ATTACH;FMTTYPE=image/png:https://editions-du-flon.ch/wp-content/uploads/2024/11/marche-de-noel.png
END:VEVENT
BEGIN:VEVENT
DTSTART;TZID=Europe/Zurich:20251101T090000
DTEND;TZID=Europe/Zurich:20251101T130000
DTSTAMP:20260421T145823
CREATED:20250425T123929Z
LAST-MODIFIED:20250425T171850Z
UID:31978-1761987600-1762002000@editions-du-flon.ch
SUMMARY:Marché du Terroir
DESCRIPTION:Marché du Terroir\, au battoir à Palézieux. \nIl a lieu tous les premiers samedis du mois\, sauf en juillet et août. \nDes produits frais et authentiques : Légumes de saison\, pain fait maison\, viande locale\, bière et vins locaux\, savons naturels et bien plus ! \nRencontrez les producteurs locaux et soutenez l’artisanat de proximité. \nAnimation\, buvette et petite restauration
URL:https://editions-du-flon.ch/event/marche-du-terroir-5/
LOCATION:Palézieux\, Route du Battoir 1\, Palézieux\, Vaud\, 1607\, Switzerland
CATEGORIES:Marchés
ATTACH;FMTTYPE=image/png:https://editions-du-flon.ch/wp-content/uploads/2025/04/marche_terroir_logo_final-1-scaled.png
ORGANIZER;CN="March%C3%A9 du Terroir":MAILTO:marcheterroirpalezieux@gmail.com
END:VEVENT
BEGIN:VEVENT
DTSTART;TZID=Europe/Zurich:20251026T100300
DTEND;TZID=Europe/Zurich:20251026T160300
DTSTAMP:20260421T145823
CREATED:20250425T102323Z
LAST-MODIFIED:20251016T100243Z
UID:31950-1761472980-1761494580@editions-du-flon.ch
SUMMARY:Marché de St-Prex
DESCRIPTION:Marché de St-Prex \nComme chaque dernier dimanche du mois\, venez vous promener dans le bourg de St-Prex et découvrir de nombreux produits régionaux.
URL:https://editions-du-flon.ch/event/marche-de-st-prex-8/
LOCATION:St-Prex\, Grand Rue\, St-Prex\, Vaud\, 1162\, Switzerland
CATEGORIES:Marchés
ATTACH;FMTTYPE=image/png:https://editions-du-flon.ch/wp-content/uploads/2025/03/logo-marche-2021-1.png
ORGANIZER;CN="March%C3%A9 de St-Prex":MAILTO:info@marche-de-st-prex.ch
END:VEVENT
BEGIN:VEVENT
DTSTART;TZID=Europe/Zurich:20251009T200000
DTEND;TZID=Europe/Zurich:20251009T220000
DTSTAMP:20260421T145823
CREATED:20250929T134935Z
LAST-MODIFIED:20250929T134935Z
UID:34914-1760040000-1760047200@editions-du-flon.ch
SUMMARY:Rencontre à l'Antenne
DESCRIPTION:Rencontre avec le club de lecture de l’Antenne\, à Sottens. \nVenez découvrir les coulisses d’une petite maison d’édition le 9 octobre 2025\, à 20h00. Inscription souhaitée par mail à info@l-antenne.ch . Ce moment d’échange sera suivi par un verre de l’amitié. \nRencontre à l’Antenne à Sottens
URL:https://editions-du-flon.ch/event/rencontre-a-lantenne/
LOCATION:Antenne à Sottens\, Rue du Collège 10\, Sottens\, 1062\, Switzerland
CATEGORIES:Autres manifestations
ATTACH;FMTTYPE=image/jpeg:https://editions-du-flon.ch/wp-content/uploads/2025/09/FB_IMG_1759141369324.jpg
ORGANIZER;CN="Antenne Sottens":MAILTO:info@l-antenne.ch
END:VEVENT
BEGIN:VEVENT
DTSTART;TZID=Europe/Zurich:20251004T090000
DTEND;TZID=Europe/Zurich:20251004T130000
DTSTAMP:20260421T145823
CREATED:20250425T123625Z
LAST-MODIFIED:20250425T171834Z
UID:31976-1759568400-1759582800@editions-du-flon.ch
SUMMARY:Marché du Terroir
DESCRIPTION:Marché du Terroir\, au battoir à Palézieux. \nIl a lieu tous les premiers samedis du mois\, sauf en juillet et août. \nDes produits frais et authentiques : Légumes de saison\, pain fait maison\, viande locale\, bière et vins locaux\, savons naturels et bien plus ! \nRencontrez les producteurs locaux et soutenez l’artisanat de proximité. \nAnimation\, buvette et petite restauration
URL:https://editions-du-flon.ch/event/marche-du-terroir-4/
LOCATION:Palézieux\, Route du Battoir 1\, Palézieux\, Vaud\, 1607\, Switzerland
CATEGORIES:Marchés
ATTACH;FMTTYPE=image/png:https://editions-du-flon.ch/wp-content/uploads/2025/04/marche_terroir_logo_final-1-scaled.png
ORGANIZER;CN="March%C3%A9 du Terroir":MAILTO:marcheterroirpalezieux@gmail.com
END:VEVENT
BEGIN:VEVENT
DTSTART;TZID=Europe/Zurich:20251001T163000
DTEND;TZID=Europe/Zurich:20251001T183000
DTSTAMP:20260421T145823
CREATED:20250929T114822Z
LAST-MODIFIED:20250929T114822Z
UID:34910-1759336200-1759343400@editions-du-flon.ch
SUMMARY:Bibliothèque publique de la Veveyse
DESCRIPTION:Marie-Claire Dewarrat sera en dédicaces à la Bibliothèque publique de la Veveyse le mercredi 1er octobre 2025\, de 16h30 à 18h30. \nMarie-Claire Dewarrat en dédicaces
URL:https://editions-du-flon.ch/event/bibliotheque-publique-de-la-veveyse/
LOCATION:Bibliothèque publique de la Veveyse\, Chemin des Crêts 11\, Châtel-St-Denis\, 1618\, Switzerland
CATEGORIES:Dédicaces
ATTACH;FMTTYPE=image/png:https://editions-du-flon.ch/wp-content/uploads/2025/08/MCD-en-dedicaces.png
ORGANIZER;CN="Biblioth%C3%A8que publique de la Veveyse":MAILTO:info@biblio-veveyse.ch
END:VEVENT
BEGIN:VEVENT
DTSTART;TZID=Europe/Zurich:20250928T100000
DTEND;TZID=Europe/Zurich:20250928T160000
DTSTAMP:20260421T145823
CREATED:20250425T102101Z
LAST-MODIFIED:20250425T114110Z
UID:31948-1759053600-1759075200@editions-du-flon.ch
SUMMARY:Marché de St-Prex
DESCRIPTION:Marché de St-Prex \nPetit train
URL:https://editions-du-flon.ch/event/marche-de-st-prex-7/
LOCATION:St-Prex\, Grand Rue\, St-Prex\, Vaud\, 1162\, Switzerland
CATEGORIES:Marchés
ATTACH;FMTTYPE=image/png:https://editions-du-flon.ch/wp-content/uploads/2025/03/logo-marche-2021-1.png
ORGANIZER;CN="March%C3%A9 de St-Prex":MAILTO:info@marche-de-st-prex.ch
END:VEVENT
BEGIN:VEVENT
DTSTART;TZID=Europe/Zurich:20250927T140000
DTEND;TZID=Europe/Zurich:20250927T160000
DTSTAMP:20260421T145823
CREATED:20250807T114441Z
LAST-MODIFIED:20250807T114441Z
UID:34127-1758981600-1758988800@editions-du-flon.ch
SUMMARY:Marie-Claire Dewarrat en dédicaces à Attalens
DESCRIPTION:Marie-Claire Dewarrat en dédicaces à Attalens\nVenez rencontrer l’autrice et son nouveau livre « Les Osses » au Kiosque – librairie Au Papyrus !
URL:https://editions-du-flon.ch/event/marie-claire-dewarrat-en-dedicaces-a-attalens/
LOCATION:Au Papyrus\, Grand-Rue 50\, Attalens\, 1616\, Switzerland
CATEGORIES:Dédicaces
ATTACH;FMTTYPE=image/png:https://editions-du-flon.ch/wp-content/uploads/2025/08/MCD-en-dedicaces.png
END:VEVENT
BEGIN:VEVENT
DTSTART;TZID=Europe/Zurich:20250926T184500
DTEND;TZID=Europe/Zurich:20250926T210000
DTSTAMP:20260421T145823
CREATED:20250909T132129Z
LAST-MODIFIED:20250909T133504Z
UID:34821-1758912300-1758920400@editions-du-flon.ch
SUMMARY:Rencontre avec Marie-Claire Dewarrat
DESCRIPTION:Marie-Claire Dewarrat et la librairie Albert le Grand sont heureuses de vous accueillir pour une rencontre\nle vendredi 26 septembre 2025 à partir de 18 h 45\nL’auteure dédicacera dans notre librairie son livre paru\naux Éditions du Flon\, intitulé\n« Les Osses »\nDès 19 heures\, présentation et lecture de l’ouvrage par Sonia Menoud et Isabelle Loyse-Gremaud\npuis dédicaces et moment d’échanges suivis d’un apéritif.
URL:https://editions-du-flon.ch/event/rencontre-avec-marie-claire-dewarrat/
LOCATION:Librairie Albert le Grand\, Rue du Temple 1\, Fribourg\, 1700\, Switzerland
CATEGORIES:Dédicaces
ATTACH;FMTTYPE=image/jpeg:https://editions-du-flon.ch/wp-content/uploads/2025/09/20250830_153924-scaled.jpg
END:VEVENT
BEGIN:VEVENT
DTSTART;TZID=Europe/Zurich:20250920T140000
DTEND;TZID=Europe/Zurich:20250920T160000
DTSTAMP:20260421T145823
CREATED:20250807T141710Z
LAST-MODIFIED:20250914T175507Z
UID:34132-1758376800-1758384000@editions-du-flon.ch
SUMMARY:Marie-Claire Dewarrat en dédicaces à Charmey
DESCRIPTION:Marie-Claire Dewarrat en dédicaces à Charmey\nVenez rencontrer l’autrice et son nouveau livre “Les Osses” lors de la manifestation Livres en fête à Charmey ! \nProgramme de la fête \nMarie-Claire Dewarrat en dédicaces à Charmey
URL:https://editions-du-flon.ch/event/marie-claire-dewarrat-en-dedicaces-a-charmey/
LOCATION:Charmey\, Espace culturel de la Scie\, Charmey\, 1637\, Switzerland
CATEGORIES:Autres manifestations,Dédicaces
ATTACH;FMTTYPE=image/png:https://editions-du-flon.ch/wp-content/uploads/2025/08/MCD-en-dedicaces.png
ORGANIZER;CN="Editions Montsalvens":MAILTO:fan@websud.ch
END:VEVENT
BEGIN:VEVENT
DTSTART;TZID=Europe/Zurich:20250906T150000
DTEND;TZID=Europe/Zurich:20250906T200000
DTSTAMP:20260421T145823
CREATED:20250901T124946Z
LAST-MODIFIED:20250901T124946Z
UID:34415-1757170800-1757188800@editions-du-flon.ch
SUMMARY:La nuit du vin cuit
DESCRIPTION:La Cuvée des Bordze’s vous invite à La nuit du vin cuit à Attalens ! \nNous serons présents pour le marché artisanal qui aura lieu le samedi 6 septembre 2025\, de 15h00 à 20h00. \nTout le programme de la fête se trouve ci-dessous. \nLa nuit du vin cuit à Attalens
URL:https://editions-du-flon.ch/event/la-nuit-du-vin-cuit/
LOCATION:Marché artisanal de la nuit du vin cuit\, Rue de la Rotta 23\, Attalens\, 1616\, Switzerland
CATEGORIES:Marchés
ATTACH;FMTTYPE=image/jpeg:https://editions-du-flon.ch/wp-content/uploads/2025/09/FB_IMG_1756729983717.jpg
END:VEVENT
BEGIN:VEVENT
DTSTART;TZID=Europe/Zurich:20250906T090000
DTEND;TZID=Europe/Zurich:20250906T130000
DTSTAMP:20260421T145823
CREATED:20250425T123111Z
LAST-MODIFIED:20250425T171816Z
UID:31974-1757149200-1757163600@editions-du-flon.ch
SUMMARY:Marché du Terroir
DESCRIPTION:Marché du Terroir\, au battoir à Palézieux. \nIl a lieu tous les premiers samedis du mois\, sauf en juillet et août. \nAu gré des changements saisonniers\, vous y trouverez de savoureux produits régionaux proposés par les producteurs et les marchands de proximité.
URL:https://editions-du-flon.ch/event/marche-du-terroir-3/
LOCATION:Palézieux\, Route du Battoir 1\, Palézieux\, Vaud\, 1607\, Switzerland
CATEGORIES:Marchés
ATTACH;FMTTYPE=image/png:https://editions-du-flon.ch/wp-content/uploads/2025/04/marche_terroir_logo_final-1-scaled.png
ORGANIZER;CN="March%C3%A9 du Terroir":MAILTO:marcheterroirpalezieux@gmail.com
END:VEVENT
BEGIN:VEVENT
DTSTART;TZID=Europe/Zurich:20250905T170000
DTEND;TZID=Europe/Zurich:20250905T190000
DTSTAMP:20260421T145823
CREATED:20250901T122926Z
LAST-MODIFIED:20250901T122926Z
UID:34411-1757091600-1757098800@editions-du-flon.ch
SUMMARY:Marie-Claire Dewarrat en dédicaces à Remaufens
DESCRIPTION:Marie-Claire Dewarrat en dédicaces à Remaufens. Venez rencontrer l’autrice et son nouveau livre “Les Osses” !
URL:https://editions-du-flon.ch/event/marie-claire-dewarrat-en-dedicaces-a-remaufens/
LOCATION:Restaurant l’Avenir\, Route Villageoise 17\, Remaufens\, 1617\, Switzerland
CATEGORIES:Dédicaces
ATTACH;FMTTYPE=image/png:https://editions-du-flon.ch/wp-content/uploads/2025/08/MCD-en-dedicaces.png
END:VEVENT
BEGIN:VEVENT
DTSTART;TZID=Europe/Zurich:20250831T100000
DTEND;TZID=Europe/Zurich:20250831T160000
DTSTAMP:20260421T145823
CREATED:20250425T101718Z
LAST-MODIFIED:20250425T114053Z
UID:31946-1756634400-1756656000@editions-du-flon.ch
SUMMARY:Marché de St-Prex
DESCRIPTION:Marché de St-Prex \nSpécialité : Filets de perches à déguster
URL:https://editions-du-flon.ch/event/marche-de-st-prex-6/
LOCATION:St-Prex\, Grand Rue\, St-Prex\, Vaud\, 1162\, Switzerland
CATEGORIES:Marchés
ATTACH;FMTTYPE=image/png:https://editions-du-flon.ch/wp-content/uploads/2025/03/logo-marche-2021-1.png
ORGANIZER;CN="March%C3%A9 de St-Prex":MAILTO:info@marche-de-st-prex.ch
END:VEVENT
BEGIN:VEVENT
DTSTART;VALUE=DATE:20250829
DTEND;VALUE=DATE:20250901
DTSTAMP:20260421T145823
CREATED:20250425T171400Z
LAST-MODIFIED:20250814T203238Z
UID:31996-1756425600-1756684799@editions-du-flon.ch
SUMMARY:La fête du livre
DESCRIPTION:La fête du livre à St-Pierre-de-Clages \nTout le programme sur : https://www.village-du-livre.ch/fr/la-fete-du-livre-452/ \nVenez découvrir en primeur le dernier livre de Marie-Claire Dewarrat : Les Osses \nDédicaces et vernissage du livre le samedi 30 août 2025 à partir de 15h00 ! \nMarie-Claire Dewarrat en dédicaces
URL:https://editions-du-flon.ch/event/la-fete-du-livre/
LOCATION:St-Pierre-de-Clages\, Rue de l'Eglise\, St-Pierre-de-Clages\, Valais\, 1955\, Switzerland
CATEGORIES:Autres manifestations
ATTACH;FMTTYPE=image/webp:https://editions-du-flon.ch/wp-content/uploads/2025/04/Valais-2025.webp
ORGANIZER;CN="AVTC - Village Suisse du livre":MAILTO:info@promochamoson.ch
END:VEVENT
BEGIN:VEVENT
DTSTART;TZID=Europe/Zurich:20250823T100000
DTEND;TZID=Europe/Zurich:20250823T160000
DTSTAMP:20260421T145823
CREATED:20250801T181135Z
LAST-MODIFIED:20250816T145201Z
UID:33930-1755943200-1755964800@editions-du-flon.ch
SUMMARY:L'Ile aux Mots
DESCRIPTION:L’Ile aux Mots\, un événement sur l’Ile d’Ogoz à ne pas manquer !!! \nL’Ile aux Mots est organisé par Local Terre Native autour du monde du livre. Animations pour petits et grands ainsi que de la restauration. \nDes bateaux-navette sont organisés pour se rendre sur l’île.
URL:https://editions-du-flon.ch/event/lile-aux-mots/
LOCATION:Ile d’Ogoz\, Pont-en-Ogoz\, 1645\, Switzerland
CATEGORIES:Marchés
END:VEVENT
BEGIN:VEVENT
DTSTART;TZID=Europe/Zurich:20250727T100000
DTEND;TZID=Europe/Zurich:20250727T160000
DTSTAMP:20260421T145823
CREATED:20250425T101304Z
LAST-MODIFIED:20250425T114040Z
UID:31943-1753610400-1753632000@editions-du-flon.ch
SUMMARY:Marché de St-Prex
DESCRIPTION:Marché de St-Prex
URL:https://editions-du-flon.ch/event/marche-de-st-prex-5/
LOCATION:St-Prex\, Grand Rue\, St-Prex\, Vaud\, 1162\, Switzerland
CATEGORIES:Marchés
ATTACH;FMTTYPE=image/png:https://editions-du-flon.ch/wp-content/uploads/2025/03/logo-marche-2021-1.png
ORGANIZER;CN="March%C3%A9 de St-Prex":MAILTO:info@marche-de-st-prex.ch
END:VEVENT
BEGIN:VEVENT
DTSTART;VALUE=DATE:20250712
DTEND;VALUE=DATE:20250713
DTSTAMP:20260421T145823
CREATED:20250425T165914Z
LAST-MODIFIED:20250425T165914Z
UID:31990-1752278400-1752364799@editions-du-flon.ch
SUMMARY:Les Artisanales d'Avenches
DESCRIPTION:Les Artisanales d’Avenches \nPour le programme : \nAccueil \n \n 
URL:https://editions-du-flon.ch/event/les-artisanales-davenches/
LOCATION:Avenches\, Place du Collège\, Avenches\, Vaud\, 1580\, Switzerland
CATEGORIES:Marchés
ATTACH;FMTTYPE=image/webp:https://editions-du-flon.ch/wp-content/uploads/2025/04/Avenches-2025.webp
END:VEVENT
BEGIN:VEVENT
DTSTART;TZID=Europe/Zurich:20250629T100000
DTEND;TZID=Europe/Zurich:20250629T160000
DTSTAMP:20260421T145823
CREATED:20250425T101027Z
LAST-MODIFIED:20250425T113845Z
UID:31941-1751191200-1751212800@editions-du-flon.ch
SUMMARY:Marché de St-Prex
DESCRIPTION:Marché de St-Prex \nAnimation : Petit train
URL:https://editions-du-flon.ch/event/marche-de-st-prex-4/
LOCATION:St-Prex\, Grand Rue\, St-Prex\, Vaud\, 1162\, Switzerland
CATEGORIES:Marchés
ATTACH;FMTTYPE=image/png:https://editions-du-flon.ch/wp-content/uploads/2025/03/logo-marche-2021-1.png
ORGANIZER;CN="March%C3%A9 de St-Prex":MAILTO:info@marche-de-st-prex.ch
END:VEVENT
BEGIN:VEVENT
DTSTART;VALUE=DATE:20250627
DTEND;VALUE=DATE:20250629
DTSTAMP:20260421T145823
CREATED:20250425T163427Z
LAST-MODIFIED:20250622T191236Z
UID:31985-1750982400-1751155199@editions-du-flon.ch
SUMMARY:Braderie de Romont
DESCRIPTION:Vendredi 27 juin : \n\n\n\n16H : Ouverture de la Braderie\n17H-18H30 : Visite guidée publique de Romont\nhttps://fribourg.ch/fr/romontregion/evenements/visite-guidee-publique-de-romont-la-cite-medievale\n21H-23H : Concert du Groupe Faylons sur la scène principale\n  \nSamedi 28 juin :\n\n\n\n\n\n\n10H : Ouverture de la Braderie\n11h : Apéro officiel avec l’Annonciade\n11H-17H : Ballade en poney\, départ aux alentours du château\n16H : Concert des cadets de la fanfare de Romont\n22H jusqu’à minuit : DJ JB va mettre le feu sur la scène de la Braderie
URL:https://editions-du-flon.ch/event/braderie-de-romont/
LOCATION:Romont\, Grand Rue\, Romont\, Fribourg\, 1680\, Switzerland
CATEGORIES:Autres manifestations,Marchés
ATTACH;FMTTYPE=image/png:https://editions-du-flon.ch/wp-content/uploads/2025/04/logo_white_shadow.png
END:VEVENT
END:VCALENDAR