BEGIN:VCALENDAR
VERSION:2.0
PRODID:-//Les éditions du Flon - ECPv6.15.20//NONSGML v1.0//EN
CALSCALE:GREGORIAN
METHOD:PUBLISH
X-ORIGINAL-URL:https://editions-du-flon.ch
X-WR-CALDESC:Évènements pour Les éditions du Flon
REFRESH-INTERVAL;VALUE=DURATION:PT1H
X-Robots-Tag:noindex
X-PUBLISHED-TTL:PT1H
BEGIN:VTIMEZONE
TZID:Europe/Zurich
BEGIN:DAYLIGHT
TZOFFSETFROM:+0100
TZOFFSETTO:+0200
TZNAME:CEST
DTSTART:20250330T010000
END:DAYLIGHT
BEGIN:STANDARD
TZOFFSETFROM:+0200
TZOFFSETTO:+0100
TZNAME:CET
DTSTART:20251026T010000
END:STANDARD
BEGIN:DAYLIGHT
TZOFFSETFROM:+0100
TZOFFSETTO:+0200
TZNAME:CEST
DTSTART:20260329T010000
END:DAYLIGHT
BEGIN:STANDARD
TZOFFSETFROM:+0200
TZOFFSETTO:+0100
TZNAME:CET
DTSTART:20261025T010000
END:STANDARD
BEGIN:DAYLIGHT
TZOFFSETFROM:+0100
TZOFFSETTO:+0200
TZNAME:CEST
DTSTART:20270328T010000
END:DAYLIGHT
BEGIN:STANDARD
TZOFFSETFROM:+0200
TZOFFSETTO:+0100
TZNAME:CET
DTSTART:20271031T010000
END:STANDARD
END:VTIMEZONE
BEGIN:VEVENT
DTSTART;TZID=Europe/Zurich:20260830T100300
DTEND;TZID=Europe/Zurich:20260830T160300
DTSTAMP:20260421T145231
CREATED:20260128T152855Z
LAST-MODIFIED:20260128T152923Z
UID:35822-1788084180-1788105780@editions-du-flon.ch
SUMMARY:Marché de St-Prex
DESCRIPTION:Le Marché de Saint-Prex est un événement incontournable pour les visiteurs et habitants de la région. Il se déroule tous les derniers dimanches de chaque mois de février à décembre\, offrant une expérience culinaire unique avec des spécialités de 10 nationalités différentes. Les visiteurs peuvent profiter de la convivialité du marché\, avec des tables et bancs disponibles\, et choisir de consommer leur nourriture et boissons sur place ou à emporter. Le marché est également bien desservi par un parking à proximité\, à quelques minutes à pieds de la gare de Saint-Prex.
URL:https://editions-du-flon.ch/event/marche-de-st-prex-16/
LOCATION:St-Prex\, Grand Rue\, St-Prex\, Vaud\, 1162\, Switzerland
CATEGORIES:Marchés
ATTACH;FMTTYPE=image/png:https://editions-du-flon.ch/wp-content/uploads/2025/03/logo-marche-2021-1.png
ORGANIZER;CN="March%C3%A9 de St-Prex":MAILTO:info@marche-de-st-prex.ch
END:VEVENT
BEGIN:VEVENT
DTSTART;TZID=Europe/Zurich:20260905T090000
DTEND;TZID=Europe/Zurich:20260905T130000
DTSTAMP:20260421T145231
CREATED:20260206T093841Z
LAST-MODIFIED:20260206T100611Z
UID:36202-1788598800-1788613200@editions-du-flon.ch
SUMMARY:Marché du Terroir
DESCRIPTION:Retrouvez Les Éditions du Flon au Marché du Terroir\, présentes toute la \njournée pour partager leur univers\, leurs ouvrages et échanger avec vous. \nMarché du Terroir 2025\nIl a lieu tous les premiers samedis du mois\, sauf en juillet et août. \nDes produits frais et authentiques : Légumes de saison\, pain fait maison\, viande locale\, bière et vins locaux\, savons naturels et bien plus encore ! \nRencontrez les producteurs locaux et soutenez l’artisanat de proximité. \nAnimation\, buvette et petite restauration sont également prévues !
URL:https://editions-du-flon.ch/event/marche-du-terroir-8/
LOCATION:Au Battoir à Palézieux\, Route du Battoir 1\, Palézieux\, VD\, 1607\, Switzerland
CATEGORIES:Marchés
ATTACH;FMTTYPE=image/png:https://editions-du-flon.ch/wp-content/uploads/2025/04/marche_terroir_logo_final.png
ORGANIZER;CN="March%C3%A9 du Terroir":MAILTO:marcheterroirpalezieux@gmail.com
END:VEVENT
BEGIN:VEVENT
DTSTART;TZID=Europe/Zurich:20260919T090000
DTEND;TZID=Europe/Zurich:20260919T170000
DTSTAMP:20260421T145231
CREATED:20260208T113133Z
LAST-MODIFIED:20260208T113133Z
UID:36249-1789808400-1789837200@editions-du-flon.ch
SUMMARY:Marché du Jeûne Fédéral
DESCRIPTION:Marché du Jeûne Fédéral : Le traditionnel marché artisanal en automne aura lieu le samedi 19 septembre 2026 à Porsel\, de 9h00 à 17h00. \nLe programme suivra.
URL:https://editions-du-flon.ch/event/marche-du-jeune-federal/
LOCATION:Salle polyvalente Porsel\, Route d'Invau\, Porsel\, FR\, 1699\, Switzerland
CATEGORIES:Marchés
ATTACH;FMTTYPE=image/png:https://editions-du-flon.ch/wp-content/uploads/2026/02/logo-gdvf.png
ORGANIZER;CN="GDVF":MAILTO:info@gdvf.ch
END:VEVENT
BEGIN:VEVENT
DTSTART;TZID=Europe/Zurich:20260927T100300
DTEND;TZID=Europe/Zurich:20260927T160300
DTSTAMP:20260421T145231
CREATED:20260128T153258Z
LAST-MODIFIED:20260128T153411Z
UID:35825-1790503380-1790524980@editions-du-flon.ch
SUMMARY:Marché de St-Prex
DESCRIPTION:Le Marché de Saint-Prex est un événement incontournable pour les visiteurs et habitants de la région. Il se déroule tous les derniers dimanches de chaque mois de février à décembre\, offrant une expérience culinaire unique avec des spécialités de 10 nationalités différentes. Les visiteurs peuvent profiter de la convivialité du marché\, avec des tables et bancs disponibles\, et choisir de consommer leur nourriture et boissons sur place ou à emporter. Le marché est également bien desservi par un parking à proximité\, à quelques minutes à pieds de la gare de Saint-Prex.
URL:https://editions-du-flon.ch/event/marche-de-st-prex-17/
LOCATION:St-Prex\, Grand Rue\, St-Prex\, Vaud\, 1162\, Switzerland
CATEGORIES:Marchés
ATTACH;FMTTYPE=image/png:https://editions-du-flon.ch/wp-content/uploads/2025/03/logo-marche-2021-1.png
ORGANIZER;CN="March%C3%A9 de St-Prex":MAILTO:info@marche-de-st-prex.ch
END:VEVENT
BEGIN:VEVENT
DTSTART;TZID=Europe/Zurich:20261003T090000
DTEND;TZID=Europe/Zurich:20261003T130000
DTSTAMP:20260421T145231
CREATED:20260206T094743Z
LAST-MODIFIED:20260206T094743Z
UID:36204-1791018000-1791032400@editions-du-flon.ch
SUMMARY:Marché du Terroir
DESCRIPTION:Retrouvez Les Éditions du Flon au Marché du Terroir\, présentes toute la \njournée pour partager leur univers\, leurs ouvrages et échanger avec vous. \n \nIl a lieu tous les premiers samedis du mois\, sauf en juillet et août. \nDes produits frais et authentiques : Légumes de saison\, pain fait maison\, viande locale\, bière et vins locaux\, savons naturels et bien plus encore ! \nRencontrez les producteurs locaux et soutenez l’artisanat de proximité. \nAnimation\, buvette et petite restauration sont également prévues !
URL:https://editions-du-flon.ch/event/marche-du-terroir-9/
LOCATION:Au Battoir à Palézieux\, Route du Battoir 1\, Palézieux\, VD\, 1607\, Switzerland
CATEGORIES:Marchés
ATTACH;FMTTYPE=image/png:https://editions-du-flon.ch/wp-content/uploads/2025/04/marche_terroir_logo_final.png
ORGANIZER;CN="March%C3%A9 du Terroir":MAILTO:marcheterroirpalezieux@gmail.com
END:VEVENT
BEGIN:VEVENT
DTSTART;TZID=Europe/Zurich:20261025T100300
DTEND;TZID=Europe/Zurich:20261025T160300
DTSTAMP:20260421T145231
CREATED:20260128T153958Z
LAST-MODIFIED:20260128T154027Z
UID:35828-1792922580-1792944180@editions-du-flon.ch
SUMMARY:Marché de St-Prex
DESCRIPTION:Le Marché de Saint-Prex est un événement incontournable pour les visiteurs et habitants de la région. Il se déroule tous les derniers dimanches de chaque mois de février à décembre\, offrant une expérience culinaire unique avec des spécialités de 10 nationalités différentes. Les visiteurs peuvent profiter de la convivialité du marché\, avec des tables et bancs disponibles\, et choisir de consommer leur nourriture et boissons sur place ou à emporter. Le marché est également bien desservi par un parking à proximité\, à quelques minutes à pieds de la gare de Saint-Prex.
URL:https://editions-du-flon.ch/event/marche-de-st-prex-18/
LOCATION:St-Prex\, Grand Rue\, St-Prex\, Vaud\, 1162\, Switzerland
CATEGORIES:Marchés
ATTACH;FMTTYPE=image/png:https://editions-du-flon.ch/wp-content/uploads/2025/03/logo-marche-2021-1.png
ORGANIZER;CN="March%C3%A9 de St-Prex":MAILTO:info@marche-de-st-prex.ch
END:VEVENT
BEGIN:VEVENT
DTSTART;TZID=Europe/Zurich:20261107T090000
DTEND;TZID=Europe/Zurich:20261107T130000
DTSTAMP:20260421T145231
CREATED:20260206T095434Z
LAST-MODIFIED:20260206T095434Z
UID:36206-1794042000-1794056400@editions-du-flon.ch
SUMMARY:Marché du Terroir
DESCRIPTION:Retrouvez Les Éditions du Flon au Marché du Terroir\, présentes toute la \njournée pour partager leur univers\, leurs ouvrages et échanger avec vous. \n \nIl a lieu tous les premiers samedis du mois\, sauf en juillet et août. \nDes produits frais et authentiques : Légumes de saison\, pain fait maison\, viande locale\, bière et vins locaux\, savons naturels et bien plus encore ! \nRencontrez les producteurs locaux et soutenez l’artisanat de proximité. \nAnimation\, buvette et petite restauration sont également prévues !
URL:https://editions-du-flon.ch/event/marche-du-terroir-10/
LOCATION:Au Battoir à Palézieux\, Route du Battoir 1\, Palézieux\, VD\, 1607\, Switzerland
CATEGORIES:Marchés
ATTACH;FMTTYPE=image/png:https://editions-du-flon.ch/wp-content/uploads/2025/04/marche_terroir_logo_final.png
ORGANIZER;CN="March%C3%A9 du Terroir":MAILTO:marcheterroirpalezieux@gmail.com
END:VEVENT
BEGIN:VEVENT
DTSTART;TZID=Europe/Zurich:20261129T100300
DTEND;TZID=Europe/Zurich:20261129T160300
DTSTAMP:20260421T145231
CREATED:20260128T154403Z
LAST-MODIFIED:20260128T154435Z
UID:35831-1795946580-1795968180@editions-du-flon.ch
SUMMARY:Marché de St-Prex
DESCRIPTION:Le Marché de Saint-Prex est un événement incontournable pour les visiteurs et habitants de la région. Il se déroule tous les derniers dimanches de chaque mois de février à décembre\, offrant une expérience culinaire unique avec des spécialités de 10 nationalités différentes. Les visiteurs peuvent profiter de la convivialité du marché\, avec des tables et bancs disponibles\, et choisir de consommer leur nourriture et boissons sur place ou à emporter. Le marché est également bien desservi par un parking à proximité\, à quelques minutes à pieds de la gare de Saint-Prex.
URL:https://editions-du-flon.ch/event/marche-de-st-prex-19/
LOCATION:St-Prex\, Grand Rue\, St-Prex\, Vaud\, 1162\, Switzerland
CATEGORIES:Marchés
ATTACH;FMTTYPE=image/png:https://editions-du-flon.ch/wp-content/uploads/2025/03/logo-marche-2021-1.png
ORGANIZER;CN="March%C3%A9 de St-Prex":MAILTO:info@marche-de-st-prex.ch
END:VEVENT
BEGIN:VEVENT
DTSTART;TZID=Europe/Zurich:20261210T160000
DTEND;TZID=Europe/Zurich:20261210T210000
DTSTAMP:20260421T145231
CREATED:20260206T100152Z
LAST-MODIFIED:20260206T100152Z
UID:36208-1796918400-1796936400@editions-du-flon.ch
SUMMARY:Marché de Noël du Terroir
DESCRIPTION:Retrouvez Les Éditions du Flon au Marché de Noël du Terroir\, présentes toute la journée pour partager leur univers\, leurs ouvrages et échanger avec vous. \n \nIl a lieu exceptionnellement le jeudi soir 10 décembre 2026 ! \nDes produits frais et authentiques : Légumes de saison\, pain fait maison\, viande locale\, bière et vins locaux\, savons naturels et bien plus encore ! \nRencontrez les producteurs locaux et soutenez l’artisanat de proximité. \nAnimation\, buvette et petite restauration sont également prévues !
URL:https://editions-du-flon.ch/event/marche-de-noel-du-terroir/
LOCATION:Au Battoir à Palézieux\, Route du Battoir 1\, Palézieux\, VD\, 1607\, Switzerland
CATEGORIES:Marchés
ATTACH;FMTTYPE=image/png:https://editions-du-flon.ch/wp-content/uploads/2025/04/marche_terroir_logo_final.png
ORGANIZER;CN="March%C3%A9 du Terroir":MAILTO:marcheterroirpalezieux@gmail.com
END:VEVENT
BEGIN:VEVENT
DTSTART;TZID=Europe/Zurich:20261213T100300
DTEND;TZID=Europe/Zurich:20261213T160300
DTSTAMP:20260421T145231
CREATED:20260128T154858Z
LAST-MODIFIED:20260128T155115Z
UID:35834-1797156180-1797177780@editions-du-flon.ch
SUMMARY:Marché de Noël de St-Prex
DESCRIPTION:Le Marché de Saint-Prex est un événement incontournable pour les visiteurs et habitants de la région. Il se déroule tous les derniers dimanches de chaque mois de février à décembre\, offrant une expérience culinaire unique avec des spécialités de 10 nationalités différentes. Les visiteurs peuvent profiter de la convivialité du marché\, avec des tables et bancs disponibles\, et choisir de consommer leur nourriture et boissons sur place ou à emporter. Le marché est également bien desservi par un parking à proximité\, à quelques minutes à pieds de la gare de Saint-Prex.
URL:https://editions-du-flon.ch/event/marche-de-noel-de-st-prex/
LOCATION:St-Prex\, Grand Rue\, St-Prex\, Vaud\, 1162\, Switzerland
CATEGORIES:Marchés
ATTACH;FMTTYPE=image/png:https://editions-du-flon.ch/wp-content/uploads/2025/03/logo-marche-2021-1.png
ORGANIZER;CN="March%C3%A9 de St-Prex":MAILTO:info@marche-de-st-prex.ch
END:VEVENT
END:VCALENDAR